BEGIN:VCALENDAR
VERSION:2.0
PRODID:-//Jeff Elzinga - Author Website - ECPv6.15.14//NONSGML v1.0//EN
CALSCALE:GREGORIAN
METHOD:PUBLISH
X-ORIGINAL-URL:https://jeffelzinga.com
X-WR-CALDESC:Events for Jeff Elzinga - Author Website
REFRESH-INTERVAL;VALUE=DURATION:PT1H
X-Robots-Tag:noindex
X-PUBLISHED-TTL:PT1H
BEGIN:VTIMEZONE
TZID:America/Chicago
BEGIN:DAYLIGHT
TZOFFSETFROM:-0600
TZOFFSETTO:-0500
TZNAME:CDT
DTSTART:20240310T080000
END:DAYLIGHT
BEGIN:STANDARD
TZOFFSETFROM:-0500
TZOFFSETTO:-0600
TZNAME:CST
DTSTART:20241103T070000
END:STANDARD
BEGIN:DAYLIGHT
TZOFFSETFROM:-0600
TZOFFSETTO:-0500
TZNAME:CDT
DTSTART:20250309T080000
END:DAYLIGHT
BEGIN:STANDARD
TZOFFSETFROM:-0500
TZOFFSETTO:-0600
TZNAME:CST
DTSTART:20251102T070000
END:STANDARD
BEGIN:DAYLIGHT
TZOFFSETFROM:-0600
TZOFFSETTO:-0500
TZNAME:CDT
DTSTART:20260308T080000
END:DAYLIGHT
BEGIN:STANDARD
TZOFFSETFROM:-0500
TZOFFSETTO:-0600
TZNAME:CST
DTSTART:20261101T070000
END:STANDARD
END:VTIMEZONE
BEGIN:VEVENT
DTSTART;TZID=America/Chicago:20250927T100000
DTEND;TZID=America/Chicago:20250927T120000
DTSTAMP:20260425T051735
CREATED:20250504T230530Z
LAST-MODIFIED:20250504T230838Z
UID:1188-1758967200-1758974400@jeffelzinga.com
SUMMARY:Local Author Showcase
DESCRIPTION:I will join various writers for the Local Author Showcase\, sponsored by The Waunakee Public Library Writers Group and the Friends of the Waunakee Library\, who will present a showcase of the finest writers of the area. The public is invited to meet the writers and discover best-selling books.
URL:https://jeffelzinga.com/event_single/local-author-showcase/
LOCATION:Waunakee Public Library\, 201 N Madison Street\, Waunakee\, WI\, 53597\, United States
CATEGORIES:Author Event
END:VEVENT
END:VCALENDAR