BEGIN:VCALENDAR
VERSION:2.0
PRODID:-//Jeff Elzinga - Author Website - ECPv6.15.14//NONSGML v1.0//EN
CALSCALE:GREGORIAN
METHOD:PUBLISH
X-ORIGINAL-URL:https://jeffelzinga.com
X-WR-CALDESC:Events for Jeff Elzinga - Author Website
REFRESH-INTERVAL;VALUE=DURATION:PT1H
X-Robots-Tag:noindex
X-PUBLISHED-TTL:PT1H
BEGIN:VTIMEZONE
TZID:America/Chicago
BEGIN:DAYLIGHT
TZOFFSETFROM:-0600
TZOFFSETTO:-0500
TZNAME:CDT
DTSTART:20190310T080000
END:DAYLIGHT
BEGIN:STANDARD
TZOFFSETFROM:-0500
TZOFFSETTO:-0600
TZNAME:CST
DTSTART:20191103T070000
END:STANDARD
BEGIN:DAYLIGHT
TZOFFSETFROM:-0600
TZOFFSETTO:-0500
TZNAME:CDT
DTSTART:20200308T080000
END:DAYLIGHT
BEGIN:STANDARD
TZOFFSETFROM:-0500
TZOFFSETTO:-0600
TZNAME:CST
DTSTART:20201101T070000
END:STANDARD
BEGIN:DAYLIGHT
TZOFFSETFROM:-0600
TZOFFSETTO:-0500
TZNAME:CDT
DTSTART:20210314T080000
END:DAYLIGHT
BEGIN:STANDARD
TZOFFSETFROM:-0500
TZOFFSETTO:-0600
TZNAME:CST
DTSTART:20211107T070000
END:STANDARD
BEGIN:DAYLIGHT
TZOFFSETFROM:-0600
TZOFFSETTO:-0500
TZNAME:CDT
DTSTART:20220313T080000
END:DAYLIGHT
BEGIN:STANDARD
TZOFFSETFROM:-0500
TZOFFSETTO:-0600
TZNAME:CST
DTSTART:20221106T070000
END:STANDARD
BEGIN:DAYLIGHT
TZOFFSETFROM:-0600
TZOFFSETTO:-0500
TZNAME:CDT
DTSTART:20230312T080000
END:DAYLIGHT
BEGIN:STANDARD
TZOFFSETFROM:-0500
TZOFFSETTO:-0600
TZNAME:CST
DTSTART:20231105T070000
END:STANDARD
BEGIN:DAYLIGHT
TZOFFSETFROM:-0600
TZOFFSETTO:-0500
TZNAME:CDT
DTSTART:20240310T080000
END:DAYLIGHT
BEGIN:STANDARD
TZOFFSETFROM:-0500
TZOFFSETTO:-0600
TZNAME:CST
DTSTART:20241103T070000
END:STANDARD
BEGIN:DAYLIGHT
TZOFFSETFROM:-0600
TZOFFSETTO:-0500
TZNAME:CDT
DTSTART:20250309T080000
END:DAYLIGHT
BEGIN:STANDARD
TZOFFSETFROM:-0500
TZOFFSETTO:-0600
TZNAME:CST
DTSTART:20251102T070000
END:STANDARD
BEGIN:DAYLIGHT
TZOFFSETFROM:-0600
TZOFFSETTO:-0500
TZNAME:CDT
DTSTART:20260308T080000
END:DAYLIGHT
BEGIN:STANDARD
TZOFFSETFROM:-0500
TZOFFSETTO:-0600
TZNAME:CST
DTSTART:20261101T070000
END:STANDARD
END:VTIMEZONE
BEGIN:VEVENT
DTSTART;TZID=America/Chicago:20250927T100000
DTEND;TZID=America/Chicago:20250927T120000
DTSTAMP:20260423T115232
CREATED:20250504T230530Z
LAST-MODIFIED:20250504T230838Z
UID:1188-1758967200-1758974400@jeffelzinga.com
SUMMARY:Local Author Showcase
DESCRIPTION:I will join various writers for the Local Author Showcase\, sponsored by The Waunakee Public Library Writers Group and the Friends of the Waunakee Library\, who will present a showcase of the finest writers of the area. The public is invited to meet the writers and discover best-selling books.
URL:https://jeffelzinga.com/event_single/local-author-showcase/
LOCATION:Waunakee Public Library\, 201 N Madison Street\, Waunakee\, WI\, 53597\, United States
CATEGORIES:Author Event
END:VEVENT
BEGIN:VEVENT
DTSTART;TZID=America/Chicago:20250608T140000
DTEND;TZID=America/Chicago:20250608T160000
DTSTAMP:20260423T115232
CREATED:20250504T175601Z
LAST-MODIFIED:20250605T144008Z
UID:1170-1749391200-1749398400@jeffelzinga.com
SUMMARY:Pigeon Falls Book Signing at Arcadia Books
DESCRIPTION:Pigeon Falls is set in Wisconsin’s Driftless Area\, and I will be in the heart of that area on June 8\, signing copies of my novel at Arcadia Books. I hope to see you there.\n\nThe book store will have copies on  hand\, but if you want to order from them early\, click here.
URL:https://jeffelzinga.com/event_single/pigeon-falls-book-signing-at-arcadia-books/
LOCATION:Arcadia Books\, 102 East Jefferson St\, Spring Green\, WI\, 53588\, United States
CATEGORIES:Book Signing
END:VEVENT
BEGIN:VEVENT
DTSTART;TZID=America/Chicago:20220727T120000
DTEND;TZID=America/Chicago:20220727T133000
DTSTAMP:20260423T115232
CREATED:20220723T153721Z
LAST-MODIFIED:20220723T154556Z
UID:893-1658923200-1658928600@jeffelzinga.com
SUMMARY:Roundtable Discussion\, U.S. Embassy\, Montenegro
DESCRIPTION:Jeff Elzinga will meet with the Community Liaison Office’s book club members at the Ambassador’s Residence\, U.S. Embassy\, Podgorica\, Montenegro\, for a roundtable book discussion of his novel\, The Distance Between Stars. \nJuly 27\, 7:00 p.m.
URL:https://jeffelzinga.com/event_single/roundtable-discussion-u-s-embassy-montenegro/
LOCATION:Embassy of the United States of America\, Podgorica\, Montenegro
CATEGORIES:Book Club
ATTACH;FMTTYPE=image/jpeg:https://jeffelzinga.com/wp-content/uploads/2022/07/embassy.jpg
END:VEVENT
BEGIN:VEVENT
DTSTART;TZID=America/Chicago:20211004T180000
DTEND;TZID=America/Chicago:20211004T193000
DTSTAMP:20260423T115232
CREATED:20211001T202654Z
LAST-MODIFIED:20211004T202801Z
UID:868-1633370400-1633375800@jeffelzinga.com
SUMMARY:Reading for Sheboygan Area AAUW
DESCRIPTION:I will be giving a reading at First Congregational UCC Church for the Sheboygan AAUW (American Association of University Women) group.
URL:https://jeffelzinga.com/event_single/reading-for-sheboygan-area-aauw/
LOCATION:First Congregional UCC\, 310 Bluff Ave\, Sheboygan\, United States (US)\, 53081
CATEGORIES:Book Signing
END:VEVENT
BEGIN:VEVENT
DTSTART;TZID=America/Chicago:20210619T110000
DTEND;TZID=America/Chicago:20210619T233000
DTSTAMP:20260423T115232
CREATED:20210604T201056Z
LAST-MODIFIED:20211004T201547Z
UID:861-1624100400-1624145400@jeffelzinga.com
SUMMARY:Sheboygan Maker Faire
DESCRIPTION:I’ll be reading from The Distance Between Stars and sitting at Water’s Edge Press’s table to sign books afterwards. If you missed this event\, you can still order books at watersedgepress.com/shop.
URL:https://jeffelzinga.com/event_single/sheboygan-maker-faire/
LOCATION:Mead Public Library\, 710 New York Ave\, Sheboygan\, WI\, 53081\, United States
CATEGORIES:Book Signing
END:VEVENT
BEGIN:VEVENT
DTSTART;TZID=America/Chicago:20201114T100000
DTEND;TZID=America/Chicago:20201114T120000
DTSTAMP:20260423T115232
CREATED:20201107T223218Z
LAST-MODIFIED:20231212T163046Z
UID:793-1605348000-1605355200@jeffelzinga.com
SUMMARY:Book Signing at Literatus & Co
DESCRIPTION:I will be signing copies of The Distance Between Stars\, handing out bookmarks\, and engaging visitors in conversations about the book based\, in part\, on my experiences in Africa working for the U.S. State Department.
URL:https://jeffelzinga.com/event_single/book-signing-at-literatus-co/
LOCATION:Literatus & Co\, 401 E Main Street\, Watertown\, WI\, 53094\, United States
CATEGORIES:Book Signing
ATTACH;FMTTYPE=application/pdf:https://jeffelzinga.com/wp-content/uploads/2020/11/DBS-Poster-8-12-x-11.pdf
END:VEVENT
BEGIN:VEVENT
DTSTART;TZID=America/Chicago:20200729T170000
DTEND;TZID=America/Chicago:20200729T183000
DTSTAMP:20260423T115232
CREATED:20200722T134245Z
LAST-MODIFIED:20231212T163029Z
UID:784-1596042000-1596047400@jeffelzinga.com
SUMMARY:Guest Speaker\, Lit Lounge Book Club
DESCRIPTION:The Lakeland University Book Club\, Lit Lounge\, has invited me to be their guest speaker. They chose The Distance Between Stars as their July read. To honor social distancing\, the event will be held off campus in the open air at the Osthoff Resort\, Elkhart Lake\, WI. \n 
URL:https://jeffelzinga.com/event_single/guest-speaker-lit-lounge-book-club/
LOCATION:Osthoff Resort\, 101 Osthoff Ave\, Elkhart Lake\, United States (US)\, 53020
CATEGORIES:Book Club
END:VEVENT
BEGIN:VEVENT
DTSTART;VALUE=DATE:20200520
DTEND;VALUE=DATE:20200522
DTSTAMP:20260423T115232
CREATED:20200514T190228Z
LAST-MODIFIED:20231214T161036Z
UID:766-1590001200-1590087599@jeffelzinga.com
SUMMARY:THE DISTANCE BETWEEN STARS
DESCRIPTION:THE DISTANCE BETWEEN STARS comes out today. \nOrder your copy at Water’s Edge Press for immediate shipping. \n 
URL:https://jeffelzinga.com/event_single/release-of-the-distance-between-stars/
LOCATION:WI
END:VEVENT
END:VCALENDAR